BEGIN:VCALENDAR
VERSION:2.0
PRODID:-//LFG//NONSGML kigkonsult.se iCalcreator 2.30.10//
CALSCALE:GREGORIAN
METHOD:PUBLISH
UID:de244a7f-24f2-48ed-ad40-c3802d3c9d94
X-WR-CALNAME:iCagenda
X-WR-CALDESC:Event Management Extension for Joomla!
X-WR-RELCALID:3E26604A-50F4-4449-8B3E-E4F4932D05B5
X-WR-TIMEZONE:Europe/Zurich
BEGIN:VTIMEZONE
TZID:Europe/Zurich
BEGIN:STANDARD
TZNAME:CET
DTSTART:20241027T030000
TZOFFSETFROM:+0200
TZOFFSETTO:+0100
RDATE:20251026T030000
END:STANDARD
BEGIN:DAYLIGHT
TZNAME:CEST
DTSTART:20240331T020000
TZOFFSETFROM:+0100
TZOFFSETTO:+0200
RDATE:20250330T020000
RDATE:20260329T020000
END:DAYLIGHT
END:VTIMEZONE
BEGIN:VEVENT
UID:abc04c03-29aa-4a64-98cd-a4d5f64708f6
DTSTAMP:20260420T125114Z
CATEGORIES:LFG Komiteesitzung
CLASS:PUBLIC
DESCRIPTION:
DTSTART:20241031T180000Z
DTEND:20241031T190000Z
GEO:00;0
LOCATION:Neuhüsli
ORGANIZER:
SEQUENCE:1
SUMMARY:Komitee Sitzung
TRANSP:OPAQUE
URL:https://fasnacht-langenthal.ch/icagenda/89-komitee-sitzung
END:VEVENT
END:VCALENDAR
