BEGIN:VCALENDAR
VERSION:2.0
PRODID:-//LFG//NONSGML kigkonsult.se iCalcreator 2.30.10//
CALSCALE:GREGORIAN
METHOD:PUBLISH
UID:9f9103d2-e8c0-4ad8-88bb-d74634fe4936
X-WR-CALNAME:iCagenda
X-WR-CALDESC:Event Management Extension for Joomla!
X-WR-RELCALID:3E26604A-50F4-4449-8B3E-E4F4932D05B5
X-WR-TIMEZONE:Europe/Zurich
BEGIN:VTIMEZONE
TZID:Europe/Zurich
BEGIN:STANDARD
TZNAME:CET
DTSTART:20241027T030000
TZOFFSETFROM:+0200
TZOFFSETTO:+0100
RDATE:20251026T030000
END:STANDARD
BEGIN:DAYLIGHT
TZNAME:CEST
DTSTART:20240331T020000
TZOFFSETFROM:+0100
TZOFFSETTO:+0200
RDATE:20250330T020000
RDATE:20260329T020000
END:DAYLIGHT
END:VTIMEZONE
BEGIN:VEVENT
UID:2f9e8a41-73e1-4b61-82c5-afa0f4e87ad6
DTSTAMP:20260423T101519Z
CATEGORIES:LFG Komiteesitzung
CLASS:PUBLIC
DESCRIPTION:
DTSTART:20250206T180000Z
DTEND:20250206T190000Z
GEO:00;0
LOCATION:Bären Langenthal
ORGANIZER:
SEQUENCE:1
SUMMARY:Komiteesitzung 2025
TRANSP:OPAQUE
URL:https://fasnacht-langenthal.ch/icagenda/86-komiteesitzung-2025
END:VEVENT
END:VCALENDAR
