BEGIN:VCALENDAR
VERSION:2.0
PRODID:-//LFG//NONSGML kigkonsult.se iCalcreator 2.30.10//
CALSCALE:GREGORIAN
METHOD:PUBLISH
UID:4ddd0e80-ed9e-4398-9960-349e1d3f5d00
X-WR-CALNAME:iCagenda
X-WR-CALDESC:Event Management Extension for Joomla!
X-WR-RELCALID:3E26604A-50F4-4449-8B3E-E4F4932D05B5
X-WR-TIMEZONE:Europe/Zurich
BEGIN:VTIMEZONE
TZID:Europe/Zurich
BEGIN:STANDARD
TZNAME:CET
DTSTART:20231029T030000
TZOFFSETFROM:+0200
TZOFFSETTO:+0100
RDATE:20241027T030000
END:STANDARD
BEGIN:DAYLIGHT
TZNAME:CEST
DTSTART:20230326T020000
TZOFFSETFROM:+0100
TZOFFSETTO:+0200
RDATE:20240331T020000
RDATE:20250330T020000
END:DAYLIGHT
END:VTIMEZONE
BEGIN:VEVENT
UID:e94198f3-8253-49f1-b305-cfb24b6b5a74
DTSTAMP:20260419T193810Z
CATEGORIES:Cliquen Event
CLASS:PUBLIC
DESCRIPTION:
DTSTART:20231118T183000Z
DTEND:20231118T233000Z
GEO:00;0
LOCATION:Kulturstall
ORGANIZER:
SEQUENCE:1
SUMMARY:Gurgler-Lotto 2023
TRANSP:OPAQUE
URL:https://fasnacht-langenthal.ch/icagenda/72-gurgler-lotto-5
END:VEVENT
END:VCALENDAR
