BEGIN:VCALENDAR
VERSION:2.0
PRODID:-//LFG//NONSGML kigkonsult.se iCalcreator 2.30.10//
CALSCALE:GREGORIAN
METHOD:PUBLISH
UID:f9634631-e04d-4414-b177-1d7da79583a5
X-WR-CALNAME:iCagenda
X-WR-CALDESC:Event Management Extension for Joomla!
X-WR-RELCALID:3E26604A-50F4-4449-8B3E-E4F4932D05B5
X-WR-TIMEZONE:Europe/Zurich
BEGIN:VTIMEZONE
TZID:Europe/Zurich
BEGIN:STANDARD
TZNAME:CET
DTSTART:20211031T030000
TZOFFSETFROM:+0200
TZOFFSETTO:+0100
RDATE:20221030T030000
RDATE:20231029T030000
END:STANDARD
BEGIN:DAYLIGHT
TZNAME:CEST
DTSTART:20220327T020000
TZOFFSETFROM:+0100
TZOFFSETTO:+0200
RDATE:20230326T020000
END:DAYLIGHT
END:VTIMEZONE
BEGIN:VEVENT
UID:876e30c8-9c05-464c-8ae1-1aa88c072d19
DTSTAMP:20260422T123405Z
CATEGORIES:LFG Cliquen Sitzung
CLASS:PUBLIC
DESCRIPTION;ALTREP="CID:<FFFF__=0ABBE548DFE235B58f9e8a93d@coffeebean.com>":
 \nTraktanden:                              \n\nBegrüssung/Administration\n
 Ausblick 2023\nUnvorhergesehenes (Corona Situation)\nFasnacht 2023 (Planun
 g/Ablauf/Plaketten)\nGönnerabend (Programme/Lokale/…)\nAnmeldungen (Umzug/
  Schnitzelbankrundkurs/ Kinderfasnacht/ …)\nVerschiedenes\n\nMit freundlic
 hen Grüssen\nLangenthaler Fasnachtsgesellschaft\nDie Oberin Renate Niklaus
DTSTART:20220922T170000Z
DTEND:20220922T190000Z
GEO:00;0
LOCATION:Bären Langenthal
ORGANIZER:
SEQUENCE:1
SUMMARY:Herbstversammlung Cliquenchefsitzung
TRANSP:OPAQUE
URL:https://fasnacht-langenthal.ch/icagenda/45-herbstversammlung-cliquenche
 fsitzung
END:VEVENT
END:VCALENDAR
