BEGIN:VCALENDAR
VERSION:2.0
PRODID:-//LFG//NONSGML kigkonsult.se iCalcreator 2.30.10//
CALSCALE:GREGORIAN
METHOD:PUBLISH
UID:e8a06689-ca1b-46c6-b216-2750120e0541
X-WR-CALNAME:iCagenda
X-WR-CALDESC:Event Management Extension for Joomla!
X-WR-RELCALID:3E26604A-50F4-4449-8B3E-E4F4932D05B5
X-WR-TIMEZONE:Europe/Zurich
BEGIN:VTIMEZONE
TZID:Europe/Zurich
BEGIN:STANDARD
TZNAME:CET
DTSTART:20211031T030000
TZOFFSETFROM:+0200
TZOFFSETTO:+0100
RDATE:20221030T030000
END:STANDARD
BEGIN:DAYLIGHT
TZNAME:CEST
DTSTART:20210328T020000
TZOFFSETFROM:+0100
TZOFFSETTO:+0200
RDATE:20220327T020000
RDATE:20230326T020000
END:DAYLIGHT
END:VTIMEZONE
BEGIN:VEVENT
UID:3beb185b-fa73-4653-b731-a9334d88f092
DTSTAMP:20260423T185159Z
CATEGORIES:LFG Cliquen Sitzung
CLASS:PUBLIC
DESCRIPTION:
DTSTART:20211130T180000Z
DTEND:20211130T210000Z
GEO:00;0
LOCATION:Rest.Rebstock
ORGANIZER:
SEQUENCE:1
SUMMARY:Wagenbau Höck
TRANSP:OPAQUE
URL:https://fasnacht-langenthal.ch/icagenda/28-wagenbau-hoeck
END:VEVENT
END:VCALENDAR
