BEGIN:VCALENDAR
VERSION:2.0
PRODID:-//LFG//NONSGML kigkonsult.se iCalcreator 2.30.10//
CALSCALE:GREGORIAN
METHOD:PUBLISH
UID:a07be2e0-d191-4397-8d49-9f484aa8d7b4
X-WR-CALNAME:iCagenda
X-WR-CALDESC:Event Management Extension for Joomla!
X-WR-RELCALID:3E26604A-50F4-4449-8B3E-E4F4932D05B5
X-WR-TIMEZONE:Europe/Zurich
BEGIN:VTIMEZONE
TZID:Europe/Zurich
BEGIN:STANDARD
TZNAME:CET
DTSTART:20201025T030000
TZOFFSETFROM:+0200
TZOFFSETTO:+0100
RDATE:20211031T030000
END:STANDARD
BEGIN:DAYLIGHT
TZNAME:CEST
DTSTART:20200329T020000
TZOFFSETFROM:+0100
TZOFFSETTO:+0200
RDATE:20210328T020000
RDATE:20220327T020000
END:DAYLIGHT
END:VTIMEZONE
BEGIN:VEVENT
UID:f3428f3a-c359-4bbc-926a-6732d0d68a88
DTSTAMP:20260423T101227Z
CATEGORIES:LFG Event
CLASS:PUBLIC
DESCRIPTION;ALTREP="CID:<FFFF__=0ABBE548DFE235B58f9e8a93d@coffeebean.com>":
 10.01 Uhr Bar geöffnet11.11 Uhr Offizielle Fasnachtseröffnung:ad hoc Gugge
  &amp\; Gratis Apéro12.01 Uhr Präsentation Plakette 2021ab 18.01 Guggenpow
 er
DTSTART:20201111T101100Z
DTEND:20201111T220000Z
GEO:00;0
LOCATION:
ORGANIZER:
SEQUENCE:1
SUMMARY:Fasnachtseröffnung 2021
TRANSP:OPAQUE
URL:https://fasnacht-langenthal.ch/icagenda/15-fasnachtseroeffnung-2021
END:VEVENT
END:VCALENDAR
