BEGIN:VCALENDAR
VERSION:2.0
PRODID:-//LFG//NONSGML kigkonsult.se iCalcreator 2.30.10//
CALSCALE:GREGORIAN
METHOD:PUBLISH
UID:fe8713e6-52de-4957-a205-2b2db759a849
X-WR-CALNAME:iCagenda
X-WR-CALDESC:Event Management Extension for Joomla!
X-WR-RELCALID:3E26604A-50F4-4449-8B3E-E4F4932D05B5
X-WR-TIMEZONE:Europe/Zurich
BEGIN:VTIMEZONE
TZID:Europe/Zurich
BEGIN:STANDARD
TZNAME:CET
DTSTART:20201025T030000
TZOFFSETFROM:+0200
TZOFFSETTO:+0100
RDATE:20211031T030000
END:STANDARD
BEGIN:DAYLIGHT
TZNAME:CEST
DTSTART:20200329T020000
TZOFFSETFROM:+0100
TZOFFSETTO:+0200
RDATE:20210328T020000
RDATE:20220327T020000
END:DAYLIGHT
END:VTIMEZONE
BEGIN:VEVENT
UID:35017346-1ab8-45f3-874c-75a593d78053
DTSTAMP:20260422T212000Z
CATEGORIES:LFG Cliquen Sitzung
CLASS:PUBLIC
DESCRIPTION:
DTSTART:20210121T180000Z
DTEND:20210121T200000Z
GEO:00;0
LOCATION:Bären Langenthal
ORGANIZER:
SEQUENCE:1
SUMMARY:Organisationssitzung 2021
TRANSP:OPAQUE
URL:https://fasnacht-langenthal.ch/icagenda/14-organisationssitzung-2021/20
 21-01-21-19-00
END:VEVENT
END:VCALENDAR
