BEGIN:VCALENDAR
VERSION:2.0
PRODID:-//LFG//NONSGML kigkonsult.se iCalcreator 2.30.10//
CALSCALE:GREGORIAN
METHOD:PUBLISH
UID:c2090207-d872-4a0e-b4dc-033ad3ef6aff
X-WR-CALNAME:iCagenda
X-WR-CALDESC:Event Management Extension for Joomla!
X-WR-RELCALID:3E26604A-50F4-4449-8B3E-E4F4932D05B5
X-WR-TIMEZONE:Europe/Zurich
BEGIN:VTIMEZONE
TZID:Europe/Zurich
BEGIN:STANDARD
TZNAME:CET
DTSTART:20201025T030000
TZOFFSETFROM:+0200
TZOFFSETTO:+0100
RDATE:20211031T030000
END:STANDARD
BEGIN:DAYLIGHT
TZNAME:CEST
DTSTART:20200329T020000
TZOFFSETFROM:+0100
TZOFFSETTO:+0200
RDATE:20210328T020000
RDATE:20220327T020000
END:DAYLIGHT
END:VTIMEZONE
BEGIN:VEVENT
UID:2a4e1593-f59d-40a7-ae53-632dc4d787c0
DTSTAMP:20260419T205655Z
CATEGORIES:Cliquen Event
CLASS:PUBLIC
DESCRIPTION;ALTREP="CID:<FFFF__=0ABBE548DFE235B58f9e8a93d@coffeebean.com>":
 Sollte eine möglichkeit bestehen unseren Vorfasnachtsball durchführen zu k
 önnen\, werden wir diesen am 30.01.2021 Stattfinden lassen.\nBis jetzt ist
  aber noch nicht sicher ob das denn auch wirklich umsetzbar ist.\nWir halt
 en Euch auf dem laufenden.\n \nPflotschdäppeler Langenthal
DTSTART:20210130T190000Z
DTEND:20210131T020000Z
GEO:00;0
LOCATION:
ORGANIZER;CN=:info@pflotschdaeppeler.ch
SEQUENCE:1
SUMMARY:Pflotschis Vorfasnachtsball
TRANSP:OPAQUE
URL:https://fasnacht-langenthal.ch/icagenda/12-pflotschis-vorfasnachtsball
END:VEVENT
END:VCALENDAR
